BEGIN:VCALENDAR
VERSION:2.0
PRODID:-//ChamberMaster//Event Calendar 2.0//EN
METHOD:PUBLISH
X-PUBLISHED-TTL:P1H
REFRESH-INTERVAL:P1H
CALSCALE:GREGORIAN
BEGIN:VTIMEZONE
TZID:America/New_York
BEGIN:DAYLIGHT
RRULE:FREQ=YEARLY;BYMONTH=3;BYDAY=2SU
DTSTART:20070101T000000
TZOFFSETFROM:-0500
TZOFFSETTO:-0400
TZNAME:Eastern Daylight Time
END:DAYLIGHT
BEGIN:STANDARD
RRULE:FREQ=YEARLY;BYMONTH=11;BYDAY=1SU
DTSTART:20070101T000000
TZOFFSETFROM:-0400
TZOFFSETTO:-0500
TZNAME:Eastern Standard Time
END:STANDARD
END:VTIMEZONE
BEGIN:VEVENT
DTSTART;TZID=America/New_York:20260513T100000
DTEND;TZID=America/New_York:20260513T143000
X-MICROSOFT-CDO-ALLDAYEVENT:FALSE
SUMMARY:In-Person Flexmls Trainings: Coming May 13th!
DESCRIPTION:In-person Flexmls training is coming to OCHAR on May 13th! Learn how to maximize your Flexmls experience in this interactive\, hands-on session. Feel free to bring your laptop and follow along during the training!You have two sessions to choose from:1. AM Session: 10 AM - 11:30 AM Topics include:The Quick SearchWorking with search resultsTips and customization🔗 Register here! https://portal.doorifymls.com/courses-and-events?event_id=1a2dade0-3dcc-11f1-a2e9-670bfb1e5571 \n2. PM Session: 1 - 2:30 PMTopics include:Subscriptions\, the portal\, and contact activityFlexmls Pro app🔗 Register here! https://portal.doorifymls.com/courses-and-events?event_id=47bedef0-3dcc-11f1-a2e9-670bfb1e5571 \n📍 Location: Berkshire Hathaway HomeServices York Simpson Underwood404 Meadowmont Village Circle\, Chapel Hill\, NC 27517\nSeating is limited\, so register early!
X-ALT-DESC;FMTTYPE=text/html:<!DOCTYPE html><html><head><title></title></head><body aria-disabled="false"><p>In-person Flexmls training is coming to OCHAR on May 13th! Learn how to maximize your Flexmls experience in this interactive\, hands-on session. Feel free to bring your laptop and follow along during the training!</p><p>You have two sessions to choose from:</p><p><strong fr-original-style="" style="font-weight: 700\;"><u>1. AM Session: 10 AM - 11:30 AM</u> </strong></p><p>Topics include:</p><p>The Quick Search</p><p>Working with search results</p><p>Tips and customization</p><p>🔗 Register here! <a fr-original-style="" href="https://portal.doorifymls.com/courses-and-events?event_id=1a2dade0-3dcc-11f1-a2e9-670bfb1e5571" style="user-select: auto\;">https://portal.doorifymls.com/courses-and-events?event_id=1a2dade0-3dcc-11f1-a2e9-670bfb1e5571</a>&nbsp\;</p><p><br></p><p><strong fr-original-style="" style="font-weight: 700\;"><u>2. PM Session: 1 - 2:30 PM</u></strong></p><p>Topics include:</p><p>Subscriptions\, the portal\, and contact activity</p><p>Flexmls Pro app</p><p>🔗 Register here! <a fr-original-style="" href="https://portal.doorifymls.com/courses-and-events?event_id=47bedef0-3dcc-11f1-a2e9-670bfb1e5571" style="user-select: auto\;">https://portal.doorifymls.com/courses-and-events?event_id=47bedef0-3dcc-11f1-a2e9-670bfb1e5571</a>&nbsp\;</p><p><br></p><p>📍 Location: Berkshire Hathaway HomeServices York Simpson Underwood</p><p>404 Meadowmont Village Circle\,&nbsp\;</p><p>Chapel Hill\, NC 27517</p><p><br></p><p>Seating is limited\, so register early!</p></body></html>
LOCATION:404 Meadowmont Village Circle Chapel Hill NC 27517
UID:e.2027.1450010
SEQUENCE:3
DTSTAMP:20260423T192051Z
URL:https://members.orangechathamrealtors.com/event-calendar/Details/in-person-flexmls-trainings-coming-may-13th-1717587?sourceTypeId=Hub
END:VEVENT
END:VCALENDAR
